BEGIN:VCALENDAR
VERSION:2.0
PRODID:-//eventon.com NONSGML v1.0//EN
CALSCALE:GREGORIAN
METHOD:PUBLISH
BEGIN:VEVENT
UID:69ea204c72ace
DTSTAMP:20260423T133612Z
DTSTART:20260226T223000Z
DTEND:20260301T220000Z
LOCATION:The Warehouse 1525 S Rogers St\,  Bloomington\,  IN 47403
SUMMARY:2026 Home Show Exhibitors
DESCRIPTION:February 26th â€¢ 5:30-8:00 VIP Night (Private Event-Closed to 
 Public)February 27th â€¢ 2:00-8:00February 28th â€¢ 10:00-6:00March 1st â€¢
  12:00-5:00 Exhibitor amenities package: Standard Black pipe and drape (8â€
 ² high back with 3â€² side walls) 1-5 amp&nbsp;electrical outlet 1 8ft Tabl
 e and 1 Chair Exhibitor identification badges(number of badges depends on[.
 .]\nhttps://buildwithbasci.org/events-directory/2026-home-show-exhibitors/
URL:https://buildwithbasci.org/events-directory/2026-home-show-exhibitors/
END:VEVENT
END:VCALENDAR